BEGIN:VCALENDAR
VERSION:2.0
PRODID:-//North American Baptists, Inc. - ECPv6.15.17.1//NONSGML v1.0//EN
CALSCALE:GREGORIAN
METHOD:PUBLISH
X-WR-CALNAME:North American Baptists, Inc.
X-ORIGINAL-URL:https://nabconference.org
X-WR-CALDESC:Events for North American Baptists, Inc.
REFRESH-INTERVAL;VALUE=DURATION:PT1H
X-Robots-Tag:noindex
X-PUBLISHED-TTL:PT1H
BEGIN:VTIMEZONE
TZID:America/New_York
BEGIN:DAYLIGHT
TZOFFSETFROM:-0500
TZOFFSETTO:-0400
TZNAME:EDT
DTSTART:20220313T070000
END:DAYLIGHT
BEGIN:STANDARD
TZOFFSETFROM:-0400
TZOFFSETTO:-0500
TZNAME:EST
DTSTART:20221106T060000
END:STANDARD
BEGIN:DAYLIGHT
TZOFFSETFROM:-0500
TZOFFSETTO:-0400
TZNAME:EDT
DTSTART:20230312T070000
END:DAYLIGHT
BEGIN:STANDARD
TZOFFSETFROM:-0400
TZOFFSETTO:-0500
TZNAME:EST
DTSTART:20231105T060000
END:STANDARD
BEGIN:DAYLIGHT
TZOFFSETFROM:-0500
TZOFFSETTO:-0400
TZNAME:EDT
DTSTART:20240310T070000
END:DAYLIGHT
BEGIN:STANDARD
TZOFFSETFROM:-0400
TZOFFSETTO:-0500
TZNAME:EST
DTSTART:20241103T060000
END:STANDARD
END:VTIMEZONE
BEGIN:VEVENT
DTSTART;TZID=America/New_York:20230323T140000
DTEND;TZID=America/New_York:20230323T150000
DTSTAMP:20260423T125614
CREATED:20230220T172757Z
LAST-MODIFIED:20230220T172907Z
UID:1124708-1679580000-1679583600@nabconference.org
SUMMARY:Evangelism Webinar
DESCRIPTION:What if we are asking the wrong question? Evangelism has been largely shaped by pragmatism. But what if asking\, “What works?” is the wrong question and does not lead us to help congregations fulfill their evangelistic mandate? \nExplore how asking a different question will help you to equip your congregation to communicate the Good News more faithfully. Join in three sessions that will provide three pillars regarding evangelistic equipping facilitated\, led by Merv Budd from the Missional Initiatives Team. \nSession 1\nMarch 23 at 2:00pm EST\nThe Means: This session will focus on equipping others in how to share the Gospel.  \nSession 2\nMarch 30 at 2:00pm EST\nThe Messenger: This session will focus on how we equip our people in what is shared with others. \nSession 3\nApril 6 at 2:00pm EST\nThe Model: This session will focus on what guides all our evangelistic equipping.\n \n \nSign up by emailing scardy@nabconf.org and include your name and the name of the church where you serve.  \nThe registration deadline is March 21. \nFor additional information\, contact Merv Budd – Evangelistic Equipper\, Missional Initiatives Team.
URL:https://nabconference.org/event/evangelism-webinar/
LOCATION:Zoom
CATEGORIES:Missional Initiatives
ATTACH;FMTTYPE=image/png:https://nabconference.org/wp-content/uploads/2023/02/stop-asking-what-works-webinar-header.png
END:VEVENT
END:VCALENDAR