BEGIN:VCALENDAR
VERSION:2.0
PRODID:-//North American Baptists, Inc. - ECPv6.15.17.1//NONSGML v1.0//EN
CALSCALE:GREGORIAN
METHOD:PUBLISH
X-ORIGINAL-URL:https://nabconference.org
X-WR-CALDESC:Events for North American Baptists, Inc.
REFRESH-INTERVAL;VALUE=DURATION:PT1H
X-Robots-Tag:noindex
X-PUBLISHED-TTL:PT1H
BEGIN:VTIMEZONE
TZID:America/Los_Angeles
BEGIN:DAYLIGHT
TZOFFSETFROM:-0800
TZOFFSETTO:-0700
TZNAME:PDT
DTSTART:20220313T100000
END:DAYLIGHT
BEGIN:STANDARD
TZOFFSETFROM:-0700
TZOFFSETTO:-0800
TZNAME:PST
DTSTART:20221106T090000
END:STANDARD
BEGIN:DAYLIGHT
TZOFFSETFROM:-0800
TZOFFSETTO:-0700
TZNAME:PDT
DTSTART:20230312T100000
END:DAYLIGHT
BEGIN:STANDARD
TZOFFSETFROM:-0700
TZOFFSETTO:-0800
TZNAME:PST
DTSTART:20231105T090000
END:STANDARD
BEGIN:DAYLIGHT
TZOFFSETFROM:-0800
TZOFFSETTO:-0700
TZNAME:PDT
DTSTART:20240310T100000
END:DAYLIGHT
BEGIN:STANDARD
TZOFFSETFROM:-0700
TZOFFSETTO:-0800
TZNAME:PST
DTSTART:20241103T090000
END:STANDARD
END:VTIMEZONE
BEGIN:VEVENT
DTSTART;TZID=America/Los_Angeles:20231012T090000
DTEND;TZID=America/Los_Angeles:20231012T100000
DTSTAMP:20260425T194936
CREATED:20230915T190133Z
LAST-MODIFIED:20231005T181605Z
UID:1125760-1697101200-1697104800@nabconference.org
SUMMARY:The Landing Fall Open House
DESCRIPTION:Fall is officially in full swing\, which means a lot in the youth ministry world: students are back in school\, routine and schedules are back and maybe fuller than we’d like\, and finding that space to connect with other youth workers seems impossible. \nDon’t let the feeling of impossible overwhelm you. Take the opportunity to connect with other youth workers on Thursday\, October 12\, 2023\, on an hour-long Zoom call. This call will feature YOU\, the youth workers\, sharing stories from the summer\, as well as challenges and things to look forward to this school year. \nThis open house takes place October 12\, 9:00–10:00 a.m. Pacific. We’d love for you to join us. \nRegister for the Fall Open House
URL:https://nabconference.org/event/the-landing-fall-open-house/
LOCATION:Zoom
CATEGORIES:youth ministry
ATTACH;FMTTYPE=image/png:https://nabconference.org/wp-content/uploads/2023/09/Landing-Fall-Open-House.png
ORGANIZER;CN="Wayne Stapleton":MAILTO:wstapleton@nabconf.org
END:VEVENT
END:VCALENDAR