BEGIN:VCALENDAR
VERSION:2.0
PRODID:-//North American Baptists, Inc. - ECPv6.15.17.1//NONSGML v1.0//EN
CALSCALE:GREGORIAN
METHOD:PUBLISH
X-ORIGINAL-URL:https://nabconference.org
X-WR-CALDESC:Events for North American Baptists, Inc.
REFRESH-INTERVAL;VALUE=DURATION:PT1H
X-Robots-Tag:noindex
X-PUBLISHED-TTL:PT1H
BEGIN:VTIMEZONE
TZID:America/Los_Angeles
BEGIN:DAYLIGHT
TZOFFSETFROM:-0800
TZOFFSETTO:-0700
TZNAME:PDT
DTSTART:20220313T100000
END:DAYLIGHT
BEGIN:STANDARD
TZOFFSETFROM:-0700
TZOFFSETTO:-0800
TZNAME:PST
DTSTART:20221106T090000
END:STANDARD
BEGIN:DAYLIGHT
TZOFFSETFROM:-0800
TZOFFSETTO:-0700
TZNAME:PDT
DTSTART:20230312T100000
END:DAYLIGHT
BEGIN:STANDARD
TZOFFSETFROM:-0700
TZOFFSETTO:-0800
TZNAME:PST
DTSTART:20231105T090000
END:STANDARD
BEGIN:DAYLIGHT
TZOFFSETFROM:-0800
TZOFFSETTO:-0700
TZNAME:PDT
DTSTART:20240310T100000
END:DAYLIGHT
BEGIN:STANDARD
TZOFFSETFROM:-0700
TZOFFSETTO:-0800
TZNAME:PST
DTSTART:20241103T090000
END:STANDARD
END:VTIMEZONE
BEGIN:VEVENT
DTSTART;TZID=America/Los_Angeles:20230216T100000
DTEND;TZID=America/Los_Angeles:20230216T113000
DTSTAMP:20260423T195850
CREATED:20220923T220621Z
LAST-MODIFIED:20230120T235127Z
UID:1124085-1676541600-1676547000@nabconference.org
SUMMARY:Impact of Culture on Biblical Interpretation and Spiritual Formation
DESCRIPTION:The cultural lens through which we read and engage with Scripture impacts more of our interactions with one another in the church than we probably realize. A diverse church must recognize that methods of biblical interpretation have cultural perspectives; different cultures can approach the same text from different perspectives yet remain faithful to Scripture. As we engage with people across culture lines\, we will be better able to reach them when we are aware of our own cultural biases in interpretation and of their cultural perspectives. Further\, as we grow in our cross-cultural competence within the church\, we can grow to love and respect those of different cultures who have different interpretations of the same biblical text.  \nJoin Wayne Stapleton\, VP of Cross-Cultural Engagement\, and Bethany Kaposhi\, Cross-Cultural Engagement Leadership Team member\, on February 16\, 2023\, as they host a discussion with Larry Caldwell\, professor of Intercultural Studies and Bible Interpretation at Kairos University\, and Lyndell Campbell-Réquia\, NAB missionary and seminary professor in Brazil. This hour-long interview (10:00–11:00 am PST) will be followed by a half hour of questions and answers from those attending (11:00–11:30 PST).  \nBeing on mission means joining God where he is moving\, and sometimes that means he calls us to engage across cultural lines. This requires us to be sensitive and aware of our own cultural biases. Join us for this webinar to talk about how each of us bring our own cultural context to how we understand and read Scripture and how that impacts the way we follow Jesus and interact with one another. \nSign Up For the Webinar
URL:https://nabconference.org/event/ethno-hermeneutics-webinar/
LOCATION:Zoom
CATEGORIES:Webinar
ATTACH;FMTTYPE=image/png:https://nabconference.org/wp-content/uploads/2022/09/Cross-Cultural-Engagement-Webinar72.png
ORGANIZER;CN="Wayne Stapleton":MAILTO:wstapleton@nabconf.org
END:VEVENT
BEGIN:VEVENT
DTSTART;TZID=America/Los_Angeles:20230227T080000
DTEND;TZID=America/Los_Angeles:20230301T110000
DTSTAMP:20260423T195850
CREATED:20230413T132815Z
LAST-MODIFIED:20230413T134028Z
UID:1125146-1677484800-1677668400@nabconference.org
SUMMARY:Fit Assessment: February 2023
DESCRIPTION:What is Fit Assessment? \nNAB’s Fit Assessment is a multi-step process that delivers insights to any current or potential missionary\, church planter\, or revitalization pastor\, reporting on their “fit” for the ministry they are endeavoring to engage. Read more about our proven methods and tools here. \nIf you’re interested in beginning the Fit Assessment process\, your first step is completing the online application. \nWhat is the onsite Fit Assessment event? \nTo complete the NAB Fit Assessment\, candidates meet together for a multi-day\, in-person experience hosted by a diversity of trained leaders. These three days together help us communally discern your best next step. \nThe next Fit Assessment event will take place Monday\, February 27th – Wednesday\, March 1st in Folsom\, CA (near Sacramento). \nContact Carissa Steinhart with any questions!
URL:https://nabconference.org/event/fit-assessment-february23/
LOCATION:Disciples Church\, 281 Iron Point Rd #291\, Folsom\, CA\, 95630
CATEGORIES:Fit Assessment
ATTACH;FMTTYPE=image/png:https://nabconference.org/wp-content/uploads/2022/12/Fit-Assessment-Website-Banner.png
ORGANIZER;CN="Carissa Steinhart":MAILTO:csteinhart@nabconf.org
END:VEVENT
END:VCALENDAR