BEGIN:VCALENDAR
VERSION:2.0
PRODID:-//North American Baptists, Inc. - ECPv6.15.17.1//NONSGML v1.0//EN
CALSCALE:GREGORIAN
METHOD:PUBLISH
X-WR-CALNAME:North American Baptists, Inc.
X-ORIGINAL-URL:https://nabconference.org
X-WR-CALDESC:Events for North American Baptists, Inc.
REFRESH-INTERVAL;VALUE=DURATION:PT1H
X-Robots-Tag:noindex
X-PUBLISHED-TTL:PT1H
BEGIN:VTIMEZONE
TZID:America/Los_Angeles
BEGIN:DAYLIGHT
TZOFFSETFROM:-0800
TZOFFSETTO:-0700
TZNAME:PDT
DTSTART:20220313T100000
END:DAYLIGHT
BEGIN:STANDARD
TZOFFSETFROM:-0700
TZOFFSETTO:-0800
TZNAME:PST
DTSTART:20221106T090000
END:STANDARD
BEGIN:DAYLIGHT
TZOFFSETFROM:-0800
TZOFFSETTO:-0700
TZNAME:PDT
DTSTART:20230312T100000
END:DAYLIGHT
BEGIN:STANDARD
TZOFFSETFROM:-0700
TZOFFSETTO:-0800
TZNAME:PST
DTSTART:20231105T090000
END:STANDARD
BEGIN:DAYLIGHT
TZOFFSETFROM:-0800
TZOFFSETTO:-0700
TZNAME:PDT
DTSTART:20240310T100000
END:DAYLIGHT
BEGIN:STANDARD
TZOFFSETFROM:-0700
TZOFFSETTO:-0800
TZNAME:PST
DTSTART:20241103T090000
END:STANDARD
END:VTIMEZONE
BEGIN:VEVENT
DTSTART;TZID=America/Los_Angeles:20230515T150000
DTEND;TZID=America/Los_Angeles:20230517T130000
DTSTAMP:20260423T140303
CREATED:20230322T175712Z
LAST-MODIFIED:20230413T181200Z
UID:1124963-1684162800-1684328400@nabconference.org
SUMMARY:Retired Workers' Retreat & Reunion
DESCRIPTION:Register\nReunion – an instance of two or more people coming together again after a period of separation. “Reunion” is an appropriate title for the return of the Retired Workers’ Retreat. In 2020\, the annual retreat schedule was prematurely interrupted and abruptly cancelled due to the Covid-19 virus\, with no known return. After a long period of separation\, it is time to once again gather together for one last retreat and celebrate all the Lord has done. \nWe are excited to come together again at Cedar Springs Christian Camp\, May 15–17\, 2023\, and make way for some new retired workers events and traditions in 2024. Please join us for this final retreat\, reunite with old friends\, and meet some new ones. We will be joined by guests Kerry Bender\, Harry Kelm\, and Amber Pedroni\, along with a number of our retiring NAB missionaries. We look forward to seeing you there! \nPricing \nOptional early arrival on May 14 available for additional cost. \nSingle Occupancy Cost – $260/person \nDouble Occupancy Cost – $210/person \nEarly Arrival – additional $100/person \nRegister\nAdditional Details \nCheck-In \nRegular check-in begins Monday\, May 15\, at 3:00 p.m. Early arrival check-in begins Sunday\, May 14\, at 4:00 p.m. Sunday evening and Monday morning will include informal gathering and fellowship. \nMeals \nMeals are included in your retreat registration. Early arrival includes eight meals (Sunday dinner is not provided). Regular registration includes six meals. \nSpecial Accommodations \nPlease make note during registration if you have any dietary or physical limitations. \nMany need rooms that allow dining and meeting access without stairs. Because these rooms are limited in number\, we must accept registrations for these rooms on a first-come\, first-served basis. \nIf you have any questions about your registration\, please reach out to Caryn Young at (530) 350-9321 or serve@nabconf.org.
URL:https://nabconference.org/event/retired-workers-retreat-reunion/
LOCATION:Cedar Springs Christian Retreat Center\, 4700 Minaker Rd.\, Sumas\, WA\, 98295\, United States
CATEGORIES:Retired Workers'
ATTACH;FMTTYPE=image/png:https://nabconference.org/wp-content/uploads/2023/04/Retired-Workers-Retreat-Reunion.png
ORGANIZER;CN="Caryn Young":MAILTO:serve@nabconf.org
END:VEVENT
BEGIN:VEVENT
DTSTART;TZID=America/Los_Angeles:20230518T080000
DTEND;TZID=America/Los_Angeles:20230518T090000
DTSTAMP:20260423T140303
CREATED:20230410T163811Z
LAST-MODIFIED:20230410T164013Z
UID:1125121-1684396800-1684400400@nabconference.org
SUMMARY:The Landing Open House
DESCRIPTION:NAB youth workers\, come take part in the first Open House for The Landing. The Landing is a hub for youth worker connection\, a space to contain resources for ministering to teenagers in their culture and context. \nThis Open House will be an opportunity for NAB youth workers to connect digitally on May 18 at 8:00 a.m. (PST). This Zoom call will be hosted by April Wahl (EYELET member) and Wayne Stapleton (VP of Cross-Cultural Engagement and Emerging Leaders). This hour-long Zoom call will be an opportunity to share your voice as a youth worker about what you would like to see and how you are willing to assist in helping The Landing provide a growing and deeper connection to our NAB youth workers. We will begin with an introduction by April and Wayne\, who will share more about The Landing\, as well as the content and stories they’re looking for. We will also provide a time for you as youth workers to share stories about your ministry context. \nSign up at the link below. \nRegister for the Open House
URL:https://nabconference.org/event/the-landing-open-house/
LOCATION:Zoom
CATEGORIES:youth ministry
ATTACH;FMTTYPE=image/png:https://nabconference.org/wp-content/uploads/2023/04/The-Landing-Open-House.png
ORGANIZER;CN="Wayne Stapleton":MAILTO:wstapleton@nabconf.org
END:VEVENT
END:VCALENDAR