BEGIN:VCALENDAR
VERSION:2.0
PRODID:-//North American Baptists, Inc. - ECPv6.15.17.1//NONSGML v1.0//EN
CALSCALE:GREGORIAN
METHOD:PUBLISH
X-ORIGINAL-URL:https://nabconference.org
X-WR-CALDESC:Events for North American Baptists, Inc.
REFRESH-INTERVAL;VALUE=DURATION:PT1H
X-Robots-Tag:noindex
X-PUBLISHED-TTL:PT1H
BEGIN:VTIMEZONE
TZID:America/Los_Angeles
BEGIN:DAYLIGHT
TZOFFSETFROM:-0800
TZOFFSETTO:-0700
TZNAME:PDT
DTSTART:20220313T100000
END:DAYLIGHT
BEGIN:STANDARD
TZOFFSETFROM:-0700
TZOFFSETTO:-0800
TZNAME:PST
DTSTART:20221106T090000
END:STANDARD
BEGIN:DAYLIGHT
TZOFFSETFROM:-0800
TZOFFSETTO:-0700
TZNAME:PDT
DTSTART:20230312T100000
END:DAYLIGHT
BEGIN:STANDARD
TZOFFSETFROM:-0700
TZOFFSETTO:-0800
TZNAME:PST
DTSTART:20231105T090000
END:STANDARD
BEGIN:DAYLIGHT
TZOFFSETFROM:-0800
TZOFFSETTO:-0700
TZNAME:PDT
DTSTART:20240310T100000
END:DAYLIGHT
BEGIN:STANDARD
TZOFFSETFROM:-0700
TZOFFSETTO:-0800
TZNAME:PST
DTSTART:20241103T090000
END:STANDARD
END:VTIMEZONE
BEGIN:VEVENT
DTSTART;VALUE=DATE:20230719
DTEND;VALUE=DATE:20230808
DTSTAMP:20260423T075758
CREATED:20220818T184608Z
LAST-MODIFIED:20230626T221210Z
UID:1123811-1689724800-1691452799@nabconference.org
SUMMARY:Youth Mission Trip to Hungary
DESCRIPTION:NAB Gateway is taking students on a three-week trip to Hungary to work alongside NAB missionaries Ron and Jeannie Seck and national missionaries Laszlo and Eszter Daróczi-Csuhai. \nThis Gateway Fuse Team of high school juniors and seniors and college-age young adults will serve in Roma/Gypsy village ministry in rural Hungarian settings. Ministry will involve serving with children\, youth\, and senior citizens. Teams will have the opportunity to see how Community Health Evangelism holistic ministry functions and get to be part of it.  \nTeam members will also be invited to attend the Urbana Student Mission Conference scheduled for December 28–31\, 2022\, in Indianapolis\, Indiana. (Visit urbana.org for more on the conference.) \nThe first leg of the trip will be a training retreat\, July 19–21\, in the Midwest US before flying to Hungary for the mission trip\, July 21–August 7. \nThe deadline to apply was September 15\, 2022. \nFor more information\, contact Randy Schmor or visit the link below.\nMore Information about the Trip
URL:https://nabconference.org/event/youth-mission-trip-to-hungary/
LOCATION:OH
CATEGORIES:Gateway
ATTACH;FMTTYPE=image/jpeg:https://nabconference.org/wp-content/uploads/2022/08/Hungary-Trip-2023.72.jpg
END:VEVENT
END:VCALENDAR