BEGIN:VCALENDAR
VERSION:2.0
PRODID:-//North American Baptists, Inc. - ECPv6.15.17.1//NONSGML v1.0//EN
CALSCALE:GREGORIAN
METHOD:PUBLISH
X-WR-CALNAME:North American Baptists, Inc.
X-ORIGINAL-URL:https://nabconference.org
X-WR-CALDESC:Events for North American Baptists, Inc.
REFRESH-INTERVAL;VALUE=DURATION:PT1H
X-Robots-Tag:noindex
X-PUBLISHED-TTL:PT1H
BEGIN:VTIMEZONE
TZID:America/Los_Angeles
BEGIN:DAYLIGHT
TZOFFSETFROM:-0800
TZOFFSETTO:-0700
TZNAME:PDT
DTSTART:20220313T100000
END:DAYLIGHT
BEGIN:STANDARD
TZOFFSETFROM:-0700
TZOFFSETTO:-0800
TZNAME:PST
DTSTART:20221106T090000
END:STANDARD
BEGIN:DAYLIGHT
TZOFFSETFROM:-0800
TZOFFSETTO:-0700
TZNAME:PDT
DTSTART:20230312T100000
END:DAYLIGHT
BEGIN:STANDARD
TZOFFSETFROM:-0700
TZOFFSETTO:-0800
TZNAME:PST
DTSTART:20231105T090000
END:STANDARD
BEGIN:DAYLIGHT
TZOFFSETFROM:-0800
TZOFFSETTO:-0700
TZNAME:PDT
DTSTART:20240310T100000
END:DAYLIGHT
BEGIN:STANDARD
TZOFFSETFROM:-0700
TZOFFSETTO:-0800
TZNAME:PST
DTSTART:20241103T090000
END:STANDARD
END:VTIMEZONE
BEGIN:VEVENT
DTSTART;TZID=America/Los_Angeles:20231010T170000
DTEND;TZID=America/Los_Angeles:20231010T180000
DTSTAMP:20260423T043451
CREATED:20230913T223902Z
LAST-MODIFIED:20230913T232701Z
UID:1125715-1696957200-1696960800@nabconference.org
SUMMARY:Understanding Indigenous People Workshops
DESCRIPTION:Many people who are non-Indigenous don’t always feel they have a safe place to discuss the issues tied to understanding Indigenous peoples more\, spaces to ask honest questions. \nThis is why the Understanding Indigenous People Workshops are being held. In these online workshops\, we will discuss the last 500 years of North American history. We will see the impact of spending more time listening than talking as we engage with Indigenous peoples. We will learn the ways the academic community uses the terms colonialism and ethnocentrism when describing the last 500 years in North America. And we will learn the impact of colonialism and ethnocentrism on Native peoples\, people God has called the Church to reach with the Great Commission. \nAll these topics\, and more\, will be presented and discussed in a safe learning environment. Our goal is to grow in our understanding of our Indigenous neighbor\, that we might love them the way Christ has called us to in the Great Commandment. Your questions are not merely welcome\, they are coveted. \nThe workshops will take place on Tuesdays at 5:00 p.m. Pacific / 8:00 p.m. Eastern every two weeks starting in October. They will be led by Parry Stelter\, a Bible teacher\, author\, speaker\, workshop facilitator\, chaplain\, and ambassador of Jesus Christ\, as well as ambassador of his fellow Indigenous people. He is originally from Alexander First Nation\, which is part of Treaty Six Territory in the province of Alberta\, Canada. \nWorkshop Days\n\nOctober 10\nOctober 24\nNovember 7\nNovember 21\n\n  \nRegister for the Workshops
URL:https://nabconference.org/event/understanding-indigenous-people-workshops/
LOCATION:Zoom
CATEGORIES:Indigenous Peoples
ATTACH;FMTTYPE=image/png:https://nabconference.org/wp-content/uploads/2023/09/Indigenous-People-Workshop-Event-Header.png
ORGANIZER;CN="Wayne Stapleton":MAILTO:wstapleton@nabconf.org
END:VEVENT
BEGIN:VEVENT
DTSTART;TZID=America/Los_Angeles:20231012T090000
DTEND;TZID=America/Los_Angeles:20231012T100000
DTSTAMP:20260423T043451
CREATED:20230915T190133Z
LAST-MODIFIED:20231005T181605Z
UID:1125760-1697101200-1697104800@nabconference.org
SUMMARY:The Landing Fall Open House
DESCRIPTION:Fall is officially in full swing\, which means a lot in the youth ministry world: students are back in school\, routine and schedules are back and maybe fuller than we’d like\, and finding that space to connect with other youth workers seems impossible. \nDon’t let the feeling of impossible overwhelm you. Take the opportunity to connect with other youth workers on Thursday\, October 12\, 2023\, on an hour-long Zoom call. This call will feature YOU\, the youth workers\, sharing stories from the summer\, as well as challenges and things to look forward to this school year. \nThis open house takes place October 12\, 9:00–10:00 a.m. Pacific. We’d love for you to join us. \nRegister for the Fall Open House
URL:https://nabconference.org/event/the-landing-fall-open-house/
LOCATION:Zoom
CATEGORIES:youth ministry
ATTACH;FMTTYPE=image/png:https://nabconference.org/wp-content/uploads/2023/09/Landing-Fall-Open-House.png
ORGANIZER;CN="Wayne Stapleton":MAILTO:wstapleton@nabconf.org
END:VEVENT
BEGIN:VEVENT
DTSTART;VALUE=DATE:20231015
DTEND;VALUE=DATE:20231019
DTSTAMP:20260423T043451
CREATED:20230526T174628Z
LAST-MODIFIED:20230526T174628Z
UID:1125336-1697328000-1697673599@nabconference.org
SUMMARY:Blue Ocean 2023–24
DESCRIPTION:What Is Blue Ocean?\nBlue Ocean helps NAB leaders engage in what it means to join God on mission\, to be formed into the character of Christ\, and to learn to share the whole Gospel. The cohort meets three times a year in different cities and is a basic introduction to our missional/formational movement. \nWhen & Where?\nModule 1 – Vancouver\, British Columbia\, October 15–18\, 2023\, to discuss the basis of missional theology. \nModule 2 – Auburn\, California\, February 5–8\, 2024\, at the Mercy Center for a spiritual formation retreat. \nModule 3 – Chicago\, Illinois\, April 21–24\, 2024\, to examine what this means for our churches. \nCost?\nEach participant is responsible for their travel costs and accommodations. All other costs are covered. \nRegister for Blue Ocean\n Register for Blue Ocean \nIf you have any questions\, you can contact Sara-May Cardy.
URL:https://nabconference.org/event/blue-ocean-2023-24/
LOCATION:OH
CATEGORIES:Blue Ocean
END:VEVENT
BEGIN:VEVENT
DTSTART;TZID=America/Los_Angeles:20231026T120000
DTEND;TZID=America/Los_Angeles:20231026T130000
DTSTAMP:20260423T043451
CREATED:20231002T210222Z
LAST-MODIFIED:20231012T203116Z
UID:1125849-1698321600-1698325200@nabconference.org
SUMMARY:When Church Stops Working
DESCRIPTION:Andrew Root is a professor at Luther Seminary in St. Paul\, Minnesota. A former youth pastor\, Root has a firm grasp on both academics and the way in which we the church need to relate to the current generation of our culture. His six-volume\, scholarly series on the church in a secular age has drawn wonderful reviews\, but many of us need a more simplified version\, so he wrote When Church Stops Working. This is an outstanding book that gets at the issues we the church are facing in the first part of the 21st century. \nWe are privileged to have Andrew Root spend time with us on a webinar dealing with the issues that are keeping us from joining with God on mission. He is an excellent communicator and writer\, and our time with him will be well worth it. If you are struggling to see the way forward\, or feel exhausted from dealing with ministry issues\, this webinar will have some encouraging words for you. \nThis webinar will be co-hosted by the NAB and Forge Canada. \nJoin us for this hour-long discussion with Andrew Root on his book\, the church\, what we are doing wrong\, and how we might correct course. \nThis webinar takes place October 26\, 12:00 p.m. Pacific. Register below. \nRegister for the Webinar
URL:https://nabconference.org/event/when-church-stops-working/
LOCATION:Zoom
CATEGORIES:Missional Initiatives
ATTACH;FMTTYPE=image/png:https://nabconference.org/wp-content/uploads/2023/10/When-Church-Stops-Working-Event-Header.png
END:VEVENT
END:VCALENDAR